BEGIN:VCALENDAR
VERSION:2.0
PRODID:-//Kulvio Event Calendar//kulvio.de//
CALSCALE:GREGORIAN
METHOD:PUBLISH
BEGIN:VEVENT
SUMMARY:VICKY – Vicky\, wann Welttournee?
DTSTART:20260429T170000Z
DTEND:20260429T180000Z
DTSTAMP:20260421T034740Z
UID:kulvio-event-3102@kulvio.de
CATEGORIES:Konzert
CREATED:20260419T174933Z
DESCRIPTION:Die Künstlerin VICKY präsentiert ihr Programm Vicky\, wann W
 elttournee? im Zoom Frankfurt. Der Abend beginnt um 19 Uhr und bietet eine
  Mischung aus Musik und Unterhaltung. Das Zoom in Frankfurt-Fechenheim ist
  regelmäßig Gastgeber für aufstrebende und etablierte Acts der deutschs
 prachigen Musikszene.
GEO:50.121618;8.750517
LAST-MODIFIED:20260419T175000Z
LOCATION:ZOOM Frankfurt\, Carl-Benz-Str. 21\, 60386\, Frankfurt am Main
STATUS:CONFIRMED
URL:https://kulvio.de/event/3102
END:VEVENT
END:VCALENDAR
