BEGIN:VCALENDAR
VERSION:2.0
PRODID:-//Kulvio Event Calendar//kulvio.de//
CALSCALE:GREGORIAN
METHOD:PUBLISH
BEGIN:VEVENT
SUMMARY:Peaches – No Lube So Rude Tour 2026
DTSTART:20260430T180000Z
DTEND:20260430T190000Z
DTSTAMP:20260421T042008Z
UID:kulvio-event-3103@kulvio.de
CATEGORIES:Konzert,Club
CREATED:20260419T174933Z
DESCRIPTION:Die kanadische Elektropunk-Ikone Peaches bringt ihre No Lube S
 o Rude Tour 2026 ins Zoom Frankfurt. Peaches ist bekannt für ihre provoka
 nten Performances und ihre Mischung aus Electroclash\, Punk und Performanc
 e-Kunst. Das Konzert beginnt um 20 Uhr und verspricht einen intensiven Abe
 nd mit hoher Energie und visueller Inszenierung.
GEO:50.121618;8.750517
LAST-MODIFIED:20260419T175000Z
LOCATION:ZOOM Frankfurt\, Carl-Benz-Str. 21\, 60386\, Frankfurt am Main
STATUS:CONFIRMED
URL:https://kulvio.de/event/3103
END:VEVENT
END:VCALENDAR
