BEGIN:VCALENDAR
VERSION:2.0
PRODID:-//Kulvio Event Calendar//kulvio.de//
CALSCALE:GREGORIAN
METHOD:PUBLISH
BEGIN:VEVENT
SUMMARY:Frankfurt tanzt in den Mai
DTSTART:20260430T210000Z
DTEND:20260430T220000Z
DTSTAMP:20260421T042436Z
UID:kulvio-event-3104@kulvio.de
CATEGORIES:Party,Club,Tanz
CREATED:20260419T174933Z
DESCRIPTION:Die traditionelle Tanz-in-den-Mai-Party findet im Zoom Frankfu
 rt statt. Auf dem Mainfloor legt DJ Jape Enterprise mit Freunden auf\, wä
 hrend in der Kantine Techno und Tech-House von Christian Kellner und Freun
 den gespielt wird. Die Party startet um 23 Uhr am Vorabend des 1. Mai und 
 feiert den Feiertag mit zwei Floors und abwechslungsreichem Programm.
GEO:50.121618;8.750517
LAST-MODIFIED:20260419T175000Z
LOCATION:ZOOM Frankfurt\, Carl-Benz-Str. 21\, 60386\, Frankfurt am Main
STATUS:CONFIRMED
URL:https://kulvio.de/event/3104
END:VEVENT
END:VCALENDAR
