BEGIN:VCALENDAR
VERSION:2.0
PRODID:-//Kulvio Event Calendar//kulvio.de//
CALSCALE:GREGORIAN
METHOD:PUBLISH
BEGIN:VEVENT
SUMMARY:Les Négresses Vertes – Zobitour
DTSTART:20260501T170000Z
DTEND:20260501T180000Z
DTSTAMP:20260421T042310Z
UID:kulvio-event-3105@kulvio.de
CATEGORIES:Konzert
CREATED:20260419T174933Z
DESCRIPTION:Die französische Band Les Négresses Vertes bringt ihre Zobit
 our ins Zoom Frankfurt. Die Gruppe ist seit den späten 1980er Jahren beka
 nnt für ihren unverwechselbaren Mix aus Punk\, Chanson\, Flamenco und nor
 dafrikanischen Klängen. Das Konzert beginnt um 19 Uhr und bietet Fans der
  Weltmusik und des alternativen Rock einen Abend mit den Klassikern der Ba
 nd.
GEO:50.121618;8.750517
LAST-MODIFIED:20260419T175000Z
LOCATION:ZOOM Frankfurt\, Carl-Benz-Str. 21\, 60386\, Frankfurt am Main
STATUS:CONFIRMED
URL:https://kulvio.de/event/3105
END:VEVENT
END:VCALENDAR
