BEGIN:VCALENDAR
VERSION:2.0
PRODID:-//Kulvio Event Calendar//kulvio.de//
CALSCALE:GREGORIAN
METHOD:PUBLISH
BEGIN:VEVENT
SUMMARY:GRIM104 – No Country for Old Grim Tour 2026
DTSTART:20260502T180000Z
DTEND:20260502T190000Z
DTSTAMP:20260421T042809Z
UID:kulvio-event-3106@kulvio.de
CATEGORIES:Konzert
CREATED:20260419T174933Z
DESCRIPTION:Der Berliner Rapper GRIM104\, bekannt als Mitglied von Zugezog
 en Maskulin\, tritt im Zoom Frankfurt auf. Die No Country for Old Grim Tou
 r 2026 präsentiert sein Soloprogramm mit deutschsprachigem Rap\, der poli
 tische und gesellschaftliche Themen aufgreift. Das Konzert startet um 20 U
 hr und richtet sich an Fans von Conscious Rap und der Berliner Hip-Hop-Sze
 ne.
GEO:50.121618;8.750517
LAST-MODIFIED:20260419T175000Z
LOCATION:ZOOM Frankfurt\, Carl-Benz-Str. 21\, 60386\, Frankfurt am Main
STATUS:CONFIRMED
URL:https://kulvio.de/event/3106
END:VEVENT
END:VCALENDAR
