BEGIN:VCALENDAR
VERSION:2.0
PRODID:-//Kulvio Event Calendar//kulvio.de//
CALSCALE:GREGORIAN
METHOD:PUBLISH
BEGIN:VEVENT
SUMMARY:XZIBIT – Kingmaker European Tour
DTSTART:20260511T180000Z
DTEND:20260511T190000Z
DTSTAMP:20260421T042426Z
UID:kulvio-event-3107@kulvio.de
CATEGORIES:Konzert
CREATED:20260419T174933Z
DESCRIPTION:Der US-amerikanische Rapper XZIBIT kommt mit seiner Kingmaker 
 European Tour ins Zoom Frankfurt. XZIBIT wurde in den frühen 2000er Jahre
 n durch Hits wie X und durch die TV-Show Pimp My Ride weltweit bekannt. Da
 s Konzert beginnt um 20 Uhr und bietet Fans des klassischen West-Coast-Hip
 -Hop einen Abend mit seinen bekanntesten Tracks.
GEO:50.121618;8.750517
LAST-MODIFIED:20260419T175000Z
LOCATION:ZOOM Frankfurt\, Carl-Benz-Str. 21\, 60386\, Frankfurt am Main
STATUS:CONFIRMED
URL:https://kulvio.de/event/3107
END:VEVENT
END:VCALENDAR
