BEGIN:VCALENDAR
VERSION:2.0
PRODID:-//Kulvio Event Calendar//kulvio.de//
CALSCALE:GREGORIAN
METHOD:PUBLISH
BEGIN:VEVENT
SUMMARY:Tombfest Vol. 1 im Elfer Club
DTSTART:20260516T160000Z
DTEND:20260516T170000Z
DTSTAMP:20260421T042810Z
UID:kulvio-event-3108@kulvio.de
CATEGORIES:Konzert,Festival
CREATED:20260419T175213Z
DESCRIPTION:Das Tombfest Vol. 1 feiert seine Premiere im Elfer Music Club 
 in Frankfurt-Sachsenhausen. Das Festival-Format im Clubrahmen vereint mehr
 ere Bands aus dem Metal-Spektrum auf einer Bühne. Einlass ist ab 18 Uhr\,
  Tickets kosten im Vorverkauf 20 Euro und an der Abendkasse 25 Euro.
GEO:50.105674;8.690182
LAST-MODIFIED:20260419T180554Z
LOCATION:ELFER MUSIC CLUB\, Kleine Rittergasse 14-20\, 60594\, Frankfurt a
 m Main
STATUS:CONFIRMED
URL:https://kulvio.de/event/3108
END:VEVENT
END:VCALENDAR
