BEGIN:VCALENDAR
VERSION:2.0
PRODID:-//Kulvio Event Calendar//kulvio.de//
CALSCALE:GREGORIAN
METHOD:PUBLISH
BEGIN:VEVENT
SUMMARY:The Damn Truth Live im Elfer Club
DTSTART:20260625T170000Z
DTEND:20260625T180000Z
DTSTAMP:20260421T042944Z
UID:kulvio-event-3109@kulvio.de
CATEGORIES:Konzert
CREATED:20260419T175213Z
DESCRIPTION:Die kanadische Rockband The Damn Truth spielt live im Elfer Mu
 sic Club in Frankfurt. Die Band aus Montreal ist bekannt für ihren energi
 egeladenen Blues-Rock-Sound. Einlass ist ab 19 Uhr\, Tickets im Vorverkauf
  kosten 25 Euro\, an der Abendkasse 30 Euro. Der Elfer Club bietet die pas
 sende intime Atmosphäre für dieses Konzert.
GEO:50.105674;8.690182
LAST-MODIFIED:20260419T180554Z
LOCATION:ELFER MUSIC CLUB\, Kleine Rittergasse 14-20\, 60594\, Frankfurt a
 m Main
STATUS:CONFIRMED
URL:https://kulvio.de/event/3109
END:VEVENT
END:VCALENDAR
