BEGIN:VCALENDAR
VERSION:2.0
PRODID:-//Kulvio Event Calendar//kulvio.de//
CALSCALE:GREGORIAN
METHOD:PUBLISH
BEGIN:VEVENT
SUMMARY:AB Syndrom Live im Elfer Club
DTSTART:20261015T170000Z
DTEND:20261015T180000Z
DTSTAMP:20260421T042814Z
UID:kulvio-event-3110@kulvio.de
CATEGORIES:Konzert
CREATED:20260419T175213Z
DESCRIPTION:AB Syndrom spielt live im Elfer Music Club in Alt-Sachsenhause
 n. Der Club in der Kleinen Rittergasse bietet regelmäßig ein vielfältig
 es Programm aus Rock\, Metal\, Hip-Hop und verwandten Genres. Einlass ist 
 ab 19 Uhr\, Tickets kosten im Vorverkauf 25 Euro\, an der Abendkasse 30 Eu
 ro.
GEO:50.105674;8.690182
LAST-MODIFIED:20260419T180554Z
LOCATION:ELFER MUSIC CLUB\, Kleine Rittergasse 14-20\, 60594\, Frankfurt a
 m Main
STATUS:CONFIRMED
URL:https://kulvio.de/event/3110
END:VEVENT
END:VCALENDAR
