BEGIN:VCALENDAR
VERSION:2.0
PRODID:-//Kulvio Event Calendar//kulvio.de//
CALSCALE:GREGORIAN
METHOD:PUBLISH
BEGIN:VEVENT
SUMMARY:Shelter Boy Live im Elfer Club
DTSTART:20261107T183000Z
DTEND:20261107T193000Z
DTSTAMP:20260421T042120Z
UID:kulvio-event-3111@kulvio.de
CATEGORIES:Konzert
CREATED:20260419T175213Z
DESCRIPTION:Shelter Boy präsentiert ein Konzert im Elfer Music Club in Fr
 ankfurt-Sachsenhausen. Der Indie-Musiker bringt seinen Sound in den intime
 n Rahmen des Clubs. Einlass ist ab 19:30 Uhr\, Tickets im Vorverkauf koste
 n 25 Euro\, an der Abendkasse 30 Euro. Der Elfer ist seit Jahren eine fest
 e Adresse für Live-Musik in Frankfurt.
GEO:50.105674;8.690182
LAST-MODIFIED:20260419T180554Z
LOCATION:ELFER MUSIC CLUB\, Kleine Rittergasse 14-20\, 60594\, Frankfurt a
 m Main
STATUS:CONFIRMED
URL:https://kulvio.de/event/3111
END:VEVENT
END:VCALENDAR
