BEGIN:VCALENDAR
VERSION:2.0
PRODID:-//Kulvio Event Calendar//kulvio.de//
CALSCALE:GREGORIAN
METHOD:PUBLISH
BEGIN:VEVENT
SUMMARY:30 Plus Party im Südbahnhof
DTSTART:20260425T190000Z
DTEND:20260425T200000Z
DTSTAMP:20260421T042808Z
UID:kulvio-event-3112@kulvio.de
CATEGORIES:Party,Club
CREATED:20260419T175254Z
DESCRIPTION:Die 30 Plus Party im Musiklokal Südbahnhof in Frankfurt-Sachs
 enhausen richtet sich an Gäste ab 30 Jahren. Die Reihe ist ein fester Bes
 tandteil des Programms und bietet eine Mischung aus Hits der 80er\, 90er u
 nd 2000er zum Tanzen und Feiern. Die Party startet um 21 Uhr im traditions
 reichen Musiklokal an der Hedderichstraße.
GEO:50.099737;8.685709
LAST-MODIFIED:20260419T180554Z
LOCATION:Musiklokal Südbahnhof\, Hedderichstraße 51a\, 60594\, Frankfurt
  am Main
STATUS:CONFIRMED
URL:https://kulvio.de/event/3112
END:VEVENT
END:VCALENDAR
