BEGIN:VCALENDAR
VERSION:2.0
PRODID:-//Kulvio Event Calendar//kulvio.de//
CALSCALE:GREGORIAN
METHOD:PUBLISH
BEGIN:VEVENT
SUMMARY:The Beatles Revival Band im Südbahnhof
DTSTART:20260426T100000Z
DTEND:20260426T110000Z
DTSTAMP:20260421T041938Z
UID:kulvio-event-3113@kulvio.de
CATEGORIES:Konzert
CREATED:20260419T175254Z
DESCRIPTION:Die Beatles Revival Band spielt im Musiklokal Südbahnhof in F
 rankfurt-Sachsenhausen. Die Tribute-Band bringt die größten Hits der Fab
  Four auf die Bühne des traditionsreichen Musiklokals. Der Südbahnhof is
 t seit Jahren eine feste Adresse für Live-Musik in Alt-Sachsenhausen und 
 bietet ein abwechslungsreiches Programm von Rock bis Jazz.
GEO:50.099737;8.685709
LAST-MODIFIED:20260419T180554Z
LOCATION:Musiklokal Südbahnhof\, Hedderichstraße 51a\, 60594\, Frankfurt
  am Main
STATUS:CONFIRMED
URL:https://kulvio.de/event/3113
END:VEVENT
END:VCALENDAR
