BEGIN:VCALENDAR
VERSION:2.0
PRODID:-//Kulvio Event Calendar//kulvio.de//
CALSCALE:GREGORIAN
METHOD:PUBLISH
BEGIN:VEVENT
SUMMARY:30 Plus Party Tanz in den Mai im Südbahnhof
DTSTART:20260430T190000Z
DTEND:20260430T200000Z
DTSTAMP:20260421T042808Z
UID:kulvio-event-3114@kulvio.de
CATEGORIES:Party,Club,Tanz
CREATED:20260419T175254Z
DESCRIPTION:Die 30 Plus Party feiert im Musiklokal Südbahnhof den Tanz in
  den Mai. Der Vorabend des 1. Mai wird traditionell mit einer großen Part
 y begangen. Die Reihe richtet sich an Gäste ab 30 Jahren und bietet Hits 
 aus mehreren Jahrzehnten. Start ist um 21 Uhr im Musiklokal an der Hedderi
 chstraße in Frankfurt-Sachsenhausen.
GEO:50.099737;8.685709
LAST-MODIFIED:20260419T180554Z
LOCATION:Musiklokal Südbahnhof\, Hedderichstraße 51a\, 60594\, Frankfurt
  am Main
STATUS:CONFIRMED
URL:https://kulvio.de/event/3114
END:VEVENT
END:VCALENDAR
