BEGIN:VCALENDAR
VERSION:2.0
PRODID:-//Kulvio Event Calendar//kulvio.de//
CALSCALE:GREGORIAN
METHOD:PUBLISH
BEGIN:VEVENT
SUMMARY:30 Plus Party im Südbahnhof
DTSTART:20260509T190000Z
DTEND:20260509T200000Z
DTSTAMP:20260421T042010Z
UID:kulvio-event-3115@kulvio.de
CATEGORIES:Party,Club
CREATED:20260419T175254Z
DESCRIPTION:Die 30 Plus Party im Musiklokal Südbahnhof in Frankfurt-Sachs
 enhausen bietet einen Abend mit Musik aus den 80ern\, 90ern und 2000ern. D
 ie Reihe ist ein fester Bestandteil des monatlichen Programms und zieht re
 gelmäßig ein tanzhungriges Publikum ab 30 an. Party-Start ist um 21 Uhr.
GEO:50.099737;8.685709
LAST-MODIFIED:20260419T180554Z
LOCATION:Musiklokal Südbahnhof\, Hedderichstraße 51a\, 60594\, Frankfurt
  am Main
STATUS:CONFIRMED
URL:https://kulvio.de/event/3115
END:VEVENT
END:VCALENDAR
