BEGIN:VCALENDAR
VERSION:2.0
PRODID:-//Kulvio Event Calendar//kulvio.de//
CALSCALE:GREGORIAN
METHOD:PUBLISH
BEGIN:VEVENT
SUMMARY:30 Plus Party im Südbahnhof
DTSTART:20260523T190000Z
DTEND:20260523T200000Z
DTSTAMP:20260421T042433Z
UID:kulvio-event-3116@kulvio.de
CATEGORIES:Party,Club
CREATED:20260419T175254Z
DESCRIPTION:Die 30 Plus Party kehrt ins Musiklokal Südbahnhof zurück. Im
  traditionsreichen Musiklokal in Alt-Sachsenhausen wird zu Hits aus mehrer
 en Jahrzehnten getanzt und gefeiert. Die Reihe ist speziell für Gäste ab
  30 Jahren konzipiert und findet regelmäßig samstags statt. Einlass ist 
 ab 21 Uhr.
GEO:50.099737;8.685709
LAST-MODIFIED:20260419T180554Z
LOCATION:Musiklokal Südbahnhof\, Hedderichstraße 51a\, 60594\, Frankfurt
  am Main
STATUS:CONFIRMED
URL:https://kulvio.de/event/3116
END:VEVENT
END:VCALENDAR
