BEGIN:VCALENDAR
VERSION:2.0
PRODID:-//Kulvio Event Calendar//kulvio.de//
CALSCALE:GREGORIAN
METHOD:PUBLISH
BEGIN:VEVENT
SUMMARY:Afterwork Wednesday in der Copper Bar
DTSTART:20260520T160000Z
DTEND:20260520T210000Z
DTSTAMP:20260421T042123Z
UID:kulvio-event-3121@kulvio.de
CATEGORIES:Afterwork,Party
CREATED:20260419T175353Z
DESCRIPTION:Die Copper Bar an der Alten Oper lädt zum wöchentlichen Afte
 rwork am Mittwoch ein. In stilvollem Ambiente mit Blick auf die Alte Oper 
 werden Cocktails und Drinks serviert\, begleitet von den Copper Resident D
 Js. Der Abend bietet die Gelegenheit\, den Arbeitstag entspannt ausklingen
  zu lassen und neue Kontakte zu knüpfen.
GEO:50.116267;8.6672
LAST-MODIFIED:20260419T180554Z
LOCATION:Copper Bar Frankfurt\, An der Welle 4\, 60322\, Frankfurt am Main
STATUS:CONFIRMED
URL:https://kulvio.de/event/3121
END:VEVENT
END:VCALENDAR
