BEGIN:VCALENDAR
VERSION:2.0
PRODID:-//Kulvio Event Calendar//kulvio.de//
CALSCALE:GREGORIAN
METHOD:PUBLISH
BEGIN:VEVENT
SUMMARY:Karaoke Night im Lucky's
DTSTART:20260421T190000Z
DTEND:20260421T215900Z
DTSTAMP:20260421T042944Z
UID:kulvio-event-3127@kulvio.de
CATEGORIES:Karaoke,LGBTQIA+,Afterwork
CREATED:20260419T175445Z
DESCRIPTION:Das Lucky's in der Großen Friedberger Straße lädt jeden Die
 nstag zur Karaoke Night ein. Die beliebte LGBTQIA+-Bar ist seit Jahren ein
 e Anlaufstelle der LGBTQIA+-Community in Frankfurt. Ab 21 Uhr kann das Pub
 likum selbst ans Mikrofon treten und Songs aus allen Genres zum Besten geb
 en. Der Eintritt ist frei.
GEO:50.115791;8.68251
LAST-MODIFIED:20260419T180554Z
LOCATION:Lucky's\, Große Friedberger Straße 26\, 60313\, Frankfurt am Ma
 in
STATUS:CONFIRMED
URL:https://kulvio.de/event/3127
END:VEVENT
END:VCALENDAR
