BEGIN:VCALENDAR
VERSION:2.0
PRODID:-//Kulvio Event Calendar//kulvio.de//
CALSCALE:GREGORIAN
METHOD:PUBLISH
BEGIN:VEVENT
SUMMARY:Happy Hour Wednesday im Lucky's
DTSTART:20260624T170000Z
DTEND:20260624T215900Z
DTSTAMP:20260421T042425Z
UID:kulvio-event-3146@kulvio.de
CATEGORIES:Afterwork,LGBTQIA+
CREATED:20260419T175446Z
DESCRIPTION:Das Lucky's bietet jeden Mittwoch eine Happy Hour mit ausgewä
 hlten Longdrinks für 5\,50 Euro. Die LGBTQIA+-Bar im Frankfurter Nordend 
 ist bekannt für ihre freundliche Atmosphäre und ihre Rolle als Treffpunk
 t der LGBTQIA+-Szene. Der Abend eignet sich zum entspannten Feierabend-Dri
 nk in gemütlicher Umgebung.
GEO:50.115791;8.68251
LAST-MODIFIED:20260419T180554Z
LOCATION:Lucky's\, Große Friedberger Straße 26\, 60313\, Frankfurt am Ma
 in
STATUS:CONFIRMED
URL:https://kulvio.de/event/3146
END:VEVENT
END:VCALENDAR
