BEGIN:VCALENDAR
VERSION:2.0
PRODID:-//Kulvio Event Calendar//kulvio.de//
CALSCALE:GREGORIAN
METHOD:PUBLISH
BEGIN:VEVENT
SUMMARY:DJ Night & Happy Hour im Kiwis
DTSTART:20260515T200000Z
DTEND:20260515T210000Z
DTSTAMP:20260421T041936Z
UID:kulvio-event-3151@kulvio.de
CATEGORIES:Party,Club,Afterwork
CREATED:20260419T175555Z
DESCRIPTION:Das Kiwis an der Schillerstraße bietet am Freitag DJ-Musik un
 d Happy Hour. Das Restaurant und die Bar im Herzen Frankfurts verwandeln s
 ich ab 22 Uhr zur Partylocation mit DJs\, die aktuelle Hits und Classics a
 uflegen. Vorher lockt die Happy Hour mit Getränkeangeboten zum Feierabend
 -Drink.
GEO:50.114682;8.678757
LAST-MODIFIED:20260419T180554Z
LOCATION:Kiwis\, Schillerstr. 10\, 60313\, Frankfurt am Main
STATUS:CONFIRMED
URL:https://kulvio.de/event/3151
END:VEVENT
END:VCALENDAR
