BEGIN:VCALENDAR
VERSION:2.0
PRODID:-//Kulvio Event Calendar//kulvio.de//
CALSCALE:GREGORIAN
METHOD:PUBLISH
BEGIN:VEVENT
SUMMARY:Swing & Jazz Night in der Old Fashioned Bar
DTSTART:20260508T190000Z
DTEND:20260508T200000Z
DTSTAMP:20260421T042503Z
UID:kulvio-event-3156@kulvio.de
CATEGORIES:Konzert,Tanz,Afterwork
CREATED:20260419T175613Z
DESCRIPTION:Die Old Fashioned Kultur-Tanz-Bar in Alt-Sachsenhausen bietet 
 am Freitagabend Live-Musik aus der Swing- und Jazz-Ära. Die Bar ist spezi
 alisiert auf Musik der 1920er bis 1950er Jahre\, darunter Swing\, Bebop un
 d Electroswing. Live-Bands und DJs sorgen für authentische Atmosphäre\, 
 begleitet von Stummfilmen an der Wand.
GEO:50.105347;8.690109
LAST-MODIFIED:20260419T180554Z
LOCATION:Old Fashioned Bar\, Klappergasse 35-39\, 60594\, Frankfurt am Mai
 n
STATUS:CONFIRMED
URL:https://kulvio.de/event/3156
END:VEVENT
END:VCALENDAR
