BEGIN:VCALENDAR
VERSION:2.0
PRODID:-//Kulvio Event Calendar//kulvio.de//
CALSCALE:GREGORIAN
METHOD:PUBLISH
BEGIN:VEVENT
SUMMARY:DJ Night in der Roomers Bar
DTSTART:20260516T200000Z
DTEND:20260516T210000Z
DTSTAMP:20260421T042123Z
UID:kulvio-event-3167@kulvio.de
CATEGORIES:Afterwork,Club,Party
CREATED:20260419T175723Z
DESCRIPTION:Die Roomers Bar im gleichnamigen Hotel an der Gutleutstraße b
 ietet am Wochenende DJ-Abende mit gehobener Atmosphäre. Sieben verschiede
 ne DJs wechseln sich wöchentlich ab und spielen eine Mischung aus loungig
 er und tanzbarer Musik. Die erfahrenen Bartender servieren klassische Cock
 tails und innovative Kreationen in burlskem Ambiente.
GEO:50.104546;8.666581
LAST-MODIFIED:20260419T180554Z
LOCATION:Roomers Bar\, Gutleutstraße 85\, 60329\, Frankfurt am Main
STATUS:CONFIRMED
URL:https://kulvio.de/event/3167
END:VEVENT
END:VCALENDAR
