BEGIN:VCALENDAR
VERSION:2.0
PRODID:-//Kulvio Event Calendar//kulvio.de//
CALSCALE:GREGORIAN
METHOD:PUBLISH
BEGIN:VEVENT
SUMMARY:GurLZzz Party Frankfurt
DTSTART:20260424T203000Z
DTEND:20260424T213000Z
DTSTAMP:20260421T042307Z
UID:kulvio-event-3172@kulvio.de
CATEGORIES:LGBTQIA+,Party,FLINTA*
CREATED:20260419T180456Z
DESCRIPTION:Die GurLZzz Party im Orange Peel ist ein Safe Space für lesbi
 sche und queere Frauen\, FLINTA*-Personen und deren Verbündete. DJ Leo Ya
 mane aus Darmstadt legt Soul\, Funk\, Hip-Hop und House auf\, DJane Käry 
 aus Frankfurt sorgt für weitere Sounds. Einlass ab 22:30 Uhr\, wer bis 23
 :30 Uhr kommt bekommt einen Welcome Shot. Mindestalter 18 Jahre mit Lichtb
 ildausweis.
GEO:50.108741;8.670654
LAST-MODIFIED:20260419T180554Z
LOCATION:Orange Peel\, Kaiserstraße 39\, 60329\, Frankfurt am Main
STATUS:CONFIRMED
URL:https://kulvio.de/event/3172
END:VEVENT
END:VCALENDAR
