BEGIN:VCALENDAR
VERSION:2.0
PRODID:-//Kulvio Event Calendar//kulvio.de//
CALSCALE:GREGORIAN
METHOD:PUBLISH
BEGIN:VEVENT
SUMMARY:Grind — Das Original (May Edition)
DTSTART:20260502T210000Z
DTEND:20260502T220000Z
DTSTAMP:20260421T035116Z
UID:kulvio-event-3173@kulvio.de
CATEGORIES:Club,Party,LGBTQIA+
CREATED:20260419T180456Z
DESCRIPTION:Die Grind Party kehrt ins Orange Peel zurück. Die monatliche 
 Party verbindet die LGBTQIA+-Community mit einem offenen Publikum in der i
 ndustriellen Atmosphäre des K39-Geländes an der Kaiserstraße. DJs Vendo
 m\, Thunderpussy und Dommy Dean sorgen für House und Club Sounds auf zwei
  Floors. Presale-Tickets ab 15 Euro verfügbar.
GEO:50.108741;8.670654
LAST-MODIFIED:20260419T180554Z
LOCATION:Orange Peel\, Kaiserstraße 39\, 60329\, Frankfurt am Main
STATUS:CONFIRMED
URL:https://kulvio.de/event/3173
END:VEVENT
END:VCALENDAR
