BEGIN:VCALENDAR
VERSION:2.0
PRODID:-//Kulvio Event Calendar//kulvio.de//
CALSCALE:GREGORIAN
METHOD:PUBLISH
BEGIN:VEVENT
SUMMARY:1001 Queer Oriental Night
DTSTART:20260711T210000Z
DTEND:20260711T220000Z
DTSTAMP:20260421T034733Z
UID:kulvio-event-3176@kulvio.de
CATEGORIES:LGBTQIA+,Club,Party
CREATED:20260419T180457Z
DESCRIPTION:Frankfurts schwul-lesbische Oriental-Party findet jeden zweite
 n Samstag im Monat im Orange Peel statt. DJ Sezer Caglar und DJane Mo spie
 len auf dem Main Floor modernen türkischen Pop\, orientalische und Balkan
 -Sounds. Auf dem zweiten Floor legt DJ Kubaton Hip-Hop und Reggaeton auf. 
 Dazu gibt es eine Live-Ritim-Show mit Davul und Darbuka.
GEO:50.108741;8.670654
LAST-MODIFIED:20260419T180554Z
LOCATION:Orange Peel\, Kaiserstraße 39\, 60329\, Frankfurt am Main
STATUS:CONFIRMED
URL:https://kulvio.de/event/3176
END:VEVENT
END:VCALENDAR
