BEGIN:VCALENDAR
VERSION:2.0
PRODID:-//Kulvio Event Calendar//kulvio.de//
CALSCALE:GREGORIAN
METHOD:PUBLISH
BEGIN:VEVENT
SUMMARY:Grind — Pride Edition
DTSTART:20260717T210000Z
DTEND:20260717T220000Z
DTSTAMP:20260421T035335Z
UID:kulvio-event-3177@kulvio.de
CATEGORIES:Club,Party,LGBTQIA+
CREATED:20260419T180457Z
DESCRIPTION:Die Grind Party feiert den CSD Frankfurt mit einer speziellen 
 Pride Edition im Orange Peel. Die Party verbindet die LGBTQIA+-Community m
 it allen Feierfreudigen in der industriellen Atmosphäre des K39-Geländes
  an der Kaiserstraße. Zwei Floors mit Club Sounds laden zum Tanzen ein. P
 resale-Tickets ab 18 Euro verfügbar.
GEO:50.108741;8.670654
LAST-MODIFIED:20260419T180554Z
LOCATION:Orange Peel\, Kaiserstraße 39\, 60329\, Frankfurt am Main
STATUS:CONFIRMED
URL:https://kulvio.de/event/3177
END:VEVENT
END:VCALENDAR
