BEGIN:VCALENDAR
VERSION:2.0
PRODID:-//Kulvio Event Calendar//kulvio.de//
CALSCALE:GREGORIAN
METHOD:PUBLISH
BEGIN:VEVENT
SUMMARY:Drag Slam — The Battle
DTSTART:20260718T180000Z
DTEND:20260718T190000Z
DTSTAMP:20260421T035137Z
UID:kulvio-event-3178@kulvio.de
CATEGORIES:LGBTQIA+,Show
CREATED:20260419T180457Z
DESCRIPTION:Beim Drag Slam im Orange Peel treten acht Drag Artists aus gan
 z Deutschland in einem Live-Wettbewerb gegeneinander an. Ob Lip-Sync\, Liv
 e-Gesang\, Comedy oder klassische Drag-Performance — das Publikum entsch
 eidet per Voting über die Gewinnerin oder den Gewinner. Einlass ab 19 Uhr
 \, Showstart um 20 Uhr. Der Gewinn umfasst 250 Euro Preisgeld.
GEO:50.108741;8.670654
LAST-MODIFIED:20260419T180554Z
LOCATION:Orange Peel\, Kaiserstraße 39\, 60329\, Frankfurt am Main
STATUS:CONFIRMED
URL:https://kulvio.de/event/3178
END:VEVENT
END:VCALENDAR
