BEGIN:VCALENDAR
VERSION:2.0
PRODID:-//Kulvio Event Calendar//kulvio.de//
CALSCALE:GREGORIAN
METHOD:PUBLISH
BEGIN:VEVENT
SUMMARY:4 Years of Club Bizarre im Tokonoma
DTSTART:20260425T193000Z
DTEND:20260425T203000Z
DTSTAMP:20260421T042945Z
UID:kulvio-event-3179@kulvio.de
CATEGORIES:Club,Party
CREATED:20260420T074032Z
DESCRIPTION:Die Partyreihe Club Bizarre feiert ihr vierjähriges Bestehen 
 im Tokonoma Club in Frankfurt. Der Club im Gutleutviertel bietet mit seine
 n drei Räumen Drift\, Holo und Sākuru verschiedene musikalische Atmosph
 ären. Die Nacht steht ganz im Zeichen elektronischer Musik und einer viel
 fältigen Community. Einlass ab 21:30 Uhr.
GEO:50.096563;8.643197
LAST-MODIFIED:20260420T104409Z
LOCATION:Tokonoma Club\, Gutleutstraße 320a\, 60327\, Frankfurt am Main
STATUS:CONFIRMED
URL:https://kulvio.de/event/3179
END:VEVENT
END:VCALENDAR
