BEGIN:VCALENDAR
VERSION:2.0
PRODID:-//Kulvio Event Calendar//kulvio.de//
CALSCALE:GREGORIAN
METHOD:PUBLISH
BEGIN:VEVENT
SUMMARY:May We Dance im Tokonoma
DTSTART:20260430T215900Z
DTEND:20260430T225900Z
DTSTAMP:20260421T043151Z
UID:kulvio-event-3180@kulvio.de
CATEGORIES:Club,Party
CREATED:20260420T074032Z
DESCRIPTION:May We Dance heißt die Tanz-in-den-Mai-Party im Tokonoma Club
  in Frankfurt. Das Event startet um Mitternacht und begleitet die Feiernde
 n in den ersten Mai. Der Tokonoma Club im Gutleutviertel verbindet elektro
 nische Musik mit einem offenen Raumkonzept auf über 1000 Quadratmetern Fl
 äche inklusive Outdoor-Bereich.
GEO:50.096563;8.643197
LAST-MODIFIED:20260420T104409Z
LOCATION:Tokonoma Club\, Gutleutstraße 320a\, 60327\, Frankfurt am Main
STATUS:CONFIRMED
URL:https://kulvio.de/event/3180
END:VEVENT
END:VCALENDAR
