BEGIN:VCALENDAR
VERSION:2.0
PRODID:-//Kulvio Event Calendar//kulvio.de//
CALSCALE:GREGORIAN
METHOD:PUBLISH
BEGIN:VEVENT
SUMMARY:WDC Open Air Handwerksmesse im Tokonoma
DTSTART:20260613T120000Z
DTEND:20260613T214500Z
DTSTAMP:20260421T042813Z
UID:kulvio-event-3181@kulvio.de
CATEGORIES:Messe,Open-Air,Workshop
CREATED:20260420T074032Z
DESCRIPTION:Im Rahmen der World Design Capital 2026 findet eine Open-Air-H
 andwerksmesse im Tokonoma Club statt. Die Messe zeigt Handwerkerinnen und 
 Handwerker bei der Arbeit und soll Besucherinnen und Besucher inspirieren\
 , selbst kreativ zu werden. Die Veranstaltung verbindet Design\, Handwerk 
 und Kultur im Freien auf dem Gelände des Tokonoma im Frankfurter Gutleutv
 iertel.
GEO:50.096563;8.643197
LAST-MODIFIED:20260420T104409Z
LOCATION:Tokonoma Club\, Gutleutstraße 320a\, 60327\, Frankfurt am Main
STATUS:CONFIRMED
URL:https://kulvio.de/event/3181
END:VEVENT
END:VCALENDAR
