BEGIN:VCALENDAR
VERSION:2.0
PRODID:-//Kulvio Event Calendar//kulvio.de//
CALSCALE:GREGORIAN
METHOD:PUBLISH
BEGIN:VEVENT
SUMMARY:smile. Festival im Café KoZ
DTSTART:20260517T210000Z
DTEND:20260518T030000Z
DTSTAMP:20260421T042120Z
UID:kulvio-event-3182@kulvio.de
CATEGORIES:Club,Party
CREATED:20260420T074316Z
DESCRIPTION:Das smile. Festival verwandelt das Café KoZ in Frankfurt-Bock
 enheim für eine Nacht in einen Clubraum. Das Café an der Goethe-Universi
 tät wird zur Bühne für elektronische Musik von House bis Techno. An den
  Reglern stehen Vitello Tornado\, Mischeel\, Amar\, Maltitz und Pascal Fis
 cher. Die smile.-Reihe ist bekannt dafür\, außergewöhnliche Frankfurter
  Locations mit guten Vibes zu füllen.
GEO:50.118693;8.651457
LAST-MODIFIED:20260420T104409Z
LOCATION:Café KoZ\, Mertonstraße 26-28\, 60325\, Frankfurt am Main
STATUS:CONFIRMED
URL:https://kulvio.de/event/3182
END:VEVENT
END:VCALENDAR
