BEGIN:VCALENDAR
VERSION:2.0
PRODID:-//Kulvio Event Calendar//kulvio.de//
CALSCALE:GREGORIAN
METHOD:PUBLISH
BEGIN:VEVENT
SUMMARY:Electric Friday: O.bee und Rhadoo im Robert Johnson
DTSTART:20260424T215900Z
DTEND:20260424T225900Z
DTSTAMP:20260421T042008Z
UID:kulvio-event-3183@kulvio.de
CATEGORIES:Club,Party
CREATED:20260420T074346Z
DESCRIPTION:Im Robert Johnson in Offenbach steht ein Electric Friday mit O
 .bee und Rhadoo auf dem Programm. Die beiden DJs stehen für einen raffini
 erten Sound zwischen Minimal und Deep House. Der legendäre Club am Nordri
 ng zählt seit über zwei Jahrzehnten zu den wichtigsten Adressen für ele
 ktronische Musik in der Rhein-Main-Region. Einlass ist ab 23:59 Uhr.
GEO:50.111689;8.738979
LAST-MODIFIED:20260420T104409Z
LOCATION:Robert Johnson\, Nordring 131\, 63067\, Offenbach am Main
STATUS:CONFIRMED
URL:https://kulvio.de/event/3183
END:VEVENT
END:VCALENDAR
