BEGIN:VCALENDAR
VERSION:2.0
PRODID:-//Kulvio Event Calendar//kulvio.de//
CALSCALE:GREGORIAN
METHOD:PUBLISH
BEGIN:VEVENT
SUMMARY:Lifesaver Saturday: Cormac b2b Curses und Jenne
DTSTART:20260425T215900Z
DTEND:20260425T225900Z
DTSTAMP:20260421T042804Z
UID:kulvio-event-3184@kulvio.de
CATEGORIES:Club,Party
CREATED:20260420T074346Z
DESCRIPTION:Der Lifesaver Saturday im Robert Johnson bringt Cormac und Cur
 ses im b2b-Set zusammen\, unterstützt von Jenne. Die Nacht verspricht ein
 e Mischung aus Wave\, EBM und housigen Klängen im intimen Rahmen des Offe
 nbacher Clubs. Der Robert Johnson ist bekannt für seine enge Verbindung z
 wischen Publikum und DJs auf der kompakten Tanzfläche.
GEO:50.111689;8.738979
LAST-MODIFIED:20260420T104409Z
LOCATION:Robert Johnson\, Nordring 131\, 63067\, Offenbach am Main
STATUS:CONFIRMED
URL:https://kulvio.de/event/3184
END:VEVENT
END:VCALENDAR
