BEGIN:VCALENDAR
VERSION:2.0
PRODID:-//Kulvio Event Calendar//kulvio.de//
CALSCALE:GREGORIAN
METHOD:PUBLISH
BEGIN:VEVENT
SUMMARY:Electric Thursday: Max Best\, Ogazón und Sonja Moonear
DTSTART:20260430T215900Z
DTEND:20260430T225900Z
DTSTAMP:20260421T042432Z
UID:kulvio-event-3185@kulvio.de
CATEGORIES:Club,Party
CREATED:20260420T074346Z
DESCRIPTION:Ein besonderer Electric Thursday im Robert Johnson mit gleich 
 drei Acts: Max Best\, Ogazón und die Schweizer DJ-Legende Sonja Moonear. 
 Der Abend bietet eine musikalische Reise durch verschiedene Facetten elekt
 ronischer Musik von Minimal über House bis Deep Techno. Das Robert Johnso
 n in Offenbach gehört zu den einflussreichsten Clubs Deutschlands.
GEO:50.111689;8.738979
LAST-MODIFIED:20260420T104409Z
LOCATION:Robert Johnson\, Nordring 131\, 63067\, Offenbach am Main
STATUS:CONFIRMED
URL:https://kulvio.de/event/3185
END:VEVENT
END:VCALENDAR
