BEGIN:VCALENDAR
VERSION:2.0
PRODID:-//Kulvio Event Calendar//kulvio.de//
CALSCALE:GREGORIAN
METHOD:PUBLISH
BEGIN:VEVENT
SUMMARY:Electric Friday: Arno b2b Hanshee und Dyed Soundorom b2b Shonky
DTSTART:20260508T215900Z
DTEND:20260508T225900Z
DTSTAMP:20260421T042436Z
UID:kulvio-event-3186@kulvio.de
CATEGORIES:Club,Party
CREATED:20260420T074346Z
DESCRIPTION:Gleich zwei Back-to-Back-Sets prägt diesen Electric Friday im
  Robert Johnson. Arno und Hanshee treffen auf Dyed Soundorom und Shonky\, 
 die zu den prägenden Figuren der französischen House-Szene gehören. Der
  Abend verspricht tiefe Grooves und housige Energie auf der Tanzfläche de
 s Offenbacher Kultclubs.
GEO:50.111689;8.738979
LAST-MODIFIED:20260420T104409Z
LOCATION:Robert Johnson\, Nordring 131\, 63067\, Offenbach am Main
STATUS:CONFIRMED
URL:https://kulvio.de/event/3186
END:VEVENT
END:VCALENDAR
