BEGIN:VCALENDAR
VERSION:2.0
PRODID:-//Kulvio Event Calendar//kulvio.de//
CALSCALE:GREGORIAN
METHOD:PUBLISH
BEGIN:VEVENT
SUMMARY:Lifesaver Saturday: Budino\, Kid Simius live und Massimiliano Pagl
 iara
DTSTART:20260509T215900Z
DTEND:20260509T225900Z
DTSTAMP:20260421T042427Z
UID:kulvio-event-3187@kulvio.de
CATEGORIES:Club,Konzert
CREATED:20260420T074346Z
DESCRIPTION:Der Lifesaver Saturday vereint drei musikalische Welten im Rob
 ert Johnson. Budino bringt ihren eklektischen DJ-Stil mit\, Kid Simius per
 formt live\, und Massimiliano Pagliara steht für Italo-Disco und kosmisch
 en House. Das Robert Johnson in Offenbach bietet mit seiner intimen Atmosp
 häre den perfekten Rahmen für diese Kombination.
GEO:50.111689;8.738979
LAST-MODIFIED:20260420T104409Z
LOCATION:Robert Johnson\, Nordring 131\, 63067\, Offenbach am Main
STATUS:CONFIRMED
URL:https://kulvio.de/event/3187
END:VEVENT
END:VCALENDAR
