BEGIN:VCALENDAR
VERSION:2.0
PRODID:-//Kulvio Event Calendar//kulvio.de//
CALSCALE:GREGORIAN
METHOD:PUBLISH
BEGIN:VEVENT
SUMMARY:Electric Friday: Bodin\, Eileen und Sweely
DTSTART:20260515T215900Z
DTEND:20260515T225900Z
DTSTAMP:20260421T035205Z
UID:kulvio-event-3188@kulvio.de
CATEGORIES:Club,Party
CREATED:20260420T074346Z
DESCRIPTION:Bodin\, Eileen und Sweely gestalten diesen Electric Friday im 
 Robert Johnson in Offenbach. Sweely ist bekannt für seinen energiegeladen
 en Mix aus Breaks\, Electro und Techno. Der Club am Nordring zieht regelm
 äßig ein Publikum an\, das Wert auf musikalische Qualität und eine fami
 liäre Clubatmosphäre legt.
GEO:50.111689;8.738979
LAST-MODIFIED:20260420T104409Z
LOCATION:Robert Johnson\, Nordring 131\, 63067\, Offenbach am Main
STATUS:CONFIRMED
URL:https://kulvio.de/event/3188
END:VEVENT
END:VCALENDAR
