BEGIN:VCALENDAR
VERSION:2.0
PRODID:-//Kulvio Event Calendar//kulvio.de//
CALSCALE:GREGORIAN
METHOD:PUBLISH
BEGIN:VEVENT
SUMMARY:Lifesaver Sunday: Gerd Janson und Thomas Hammann All Night Long
DTSTART:20260524T215900Z
DTEND:20260524T225900Z
DTSTAMP:20260421T042810Z
UID:kulvio-event-3189@kulvio.de
CATEGORIES:Club,Party
CREATED:20260420T074346Z
DESCRIPTION:Ein Lifesaver Sunday der besonderen Art im Robert Johnson: Ger
 d Janson und Thomas Hammann spielen die gesamte Nacht gemeinsam. Gerd Jans
 on gehört als DJ und Labelbetreiber zu den einflussreichsten Figuren der 
 deutschen House-Szene\, Thomas Hammann ist Resident und Mitbetreiber des R
 obert Johnson. Beide verbindet eine langjährige musikalische Freundschaft
 .
GEO:50.111689;8.738979
LAST-MODIFIED:20260420T104409Z
LOCATION:Robert Johnson\, Nordring 131\, 63067\, Offenbach am Main
STATUS:CONFIRMED
URL:https://kulvio.de/event/3189
END:VEVENT
END:VCALENDAR
