BEGIN:VCALENDAR
VERSION:2.0
PRODID:-//Kulvio Event Calendar//kulvio.de//
CALSCALE:GREGORIAN
METHOD:PUBLISH
BEGIN:VEVENT
SUMMARY:Giegling im Robert Johnson
DTSTART:20260606T140000Z
DTEND:20260606T150000Z
DTSTAMP:20260421T035204Z
UID:kulvio-event-3190@kulvio.de
CATEGORIES:Club,Party
CREATED:20260420T074346Z
DESCRIPTION:Das Weimarer Kollektiv Giegling gastiert im Robert Johnson in 
 Offenbach. Giegling steht für einen reduzierten\, atmosphärischen Sound 
 zwischen Deep House\, Ambient und Dub Techno und hat sich international ei
 nen Namen gemacht. Die Veranstaltung beginnt bereits am Nachmittag um 16 U
 hr\, was auf eine längere Session mit Tageslicht und Abenddämmerung hind
 eutet.
GEO:50.111689;8.738979
LAST-MODIFIED:20260420T104409Z
LOCATION:Robert Johnson\, Nordring 131\, 63067\, Offenbach am Main
STATUS:CONFIRMED
URL:https://kulvio.de/event/3190
END:VEVENT
END:VCALENDAR
