BEGIN:VCALENDAR
VERSION:2.0
PRODID:-//Kulvio Event Calendar//kulvio.de//
CALSCALE:GREGORIAN
METHOD:PUBLISH
BEGIN:VEVENT
SUMMARY:Electric Friday: DJ Sweet6teen\, Mic und Quest
DTSTART:20260612T215900Z
DTEND:20260612T225900Z
DTSTAMP:20260421T041934Z
UID:kulvio-event-3191@kulvio.de
CATEGORIES:Club,Party
CREATED:20260420T074346Z
DESCRIPTION:DJ Sweet6teen\, Mic und Quest übernehmen den Electric Friday 
 im Robert Johnson. Der Abend bietet eine Mischung verschiedener Stile elek
 tronischer Musik in der legendären Clubatmosphäre des Robert Johnson in 
 Offenbach. Einlass ist ab 23:59 Uhr\, Tickets sind im Vorverkauf erhältli
 ch.
GEO:50.111689;8.738979
LAST-MODIFIED:20260420T104409Z
LOCATION:Robert Johnson\, Nordring 131\, 63067\, Offenbach am Main
STATUS:CONFIRMED
URL:https://kulvio.de/event/3191
END:VEVENT
END:VCALENDAR
