BEGIN:VCALENDAR
VERSION:2.0
PRODID:-//Kulvio Event Calendar//kulvio.de//
CALSCALE:GREGORIAN
METHOD:PUBLISH
BEGIN:VEVENT
SUMMARY:27 Years Robert Johnson — Freitag
DTSTART:20260619T215900Z
DTEND:20260619T225900Z
DTSTAMP:20260421T034511Z
UID:kulvio-event-3192@kulvio.de
CATEGORIES:Club,Party,Festival
CREATED:20260420T074346Z
DESCRIPTION:Das Robert Johnson in Offenbach feiert sein 27-jähriges Beste
 hen mit einem dreitägigen Festival. Am Freitag startet die Jubiläumsfeie
 r in dem Club\, der seit seiner Gründung zu den prägenden Orten der deut
 schen Clubkultur gehört. Das Lineup wird auf der Website des Clubs bekann
 t gegeben. Tickets gelten jeweils für einen Tag.
GEO:50.111689;8.738979
LAST-MODIFIED:20260420T104409Z
LOCATION:Robert Johnson\, Nordring 131\, 63067\, Offenbach am Main
STATUS:CONFIRMED
URL:https://kulvio.de/event/3192
END:VEVENT
END:VCALENDAR
