BEGIN:VCALENDAR
VERSION:2.0
PRODID:-//Kulvio Event Calendar//kulvio.de//
CALSCALE:GREGORIAN
METHOD:PUBLISH
BEGIN:VEVENT
SUMMARY:27 Years Robert Johnson — Samstag
DTSTART:20260620T215900Z
DTEND:20260620T225900Z
DTSTAMP:20260421T035203Z
UID:kulvio-event-3193@kulvio.de
CATEGORIES:Club,Party,Festival
CREATED:20260420T074346Z
DESCRIPTION:Am Samstag geht die Jubiläumsfeier zum 27. Geburtstag des Rob
 ert Johnson in Offenbach weiter. Der Club an der Nordring-Brücke hat übe
 r die Jahrzehnte Musikgeschichte geschrieben und internationale DJs in sei
 n kompaktes Wohnzimmer-Format eingeladen. Das detaillierte Lineup wird sep
 arat angekündigt.
GEO:50.111689;8.738979
LAST-MODIFIED:20260420T104409Z
LOCATION:Robert Johnson\, Nordring 131\, 63067\, Offenbach am Main
STATUS:CONFIRMED
URL:https://kulvio.de/event/3193
END:VEVENT
END:VCALENDAR
