BEGIN:VCALENDAR
VERSION:2.0
PRODID:-//Kulvio Event Calendar//kulvio.de//
CALSCALE:GREGORIAN
METHOD:PUBLISH
BEGIN:VEVENT
SUMMARY:27 Years Robert Johnson — Sonntag
DTSTART:20260621T215900Z
DTEND:20260621T225900Z
DTSTAMP:20260421T035331Z
UID:kulvio-event-3194@kulvio.de
CATEGORIES:Club,Party,Festival
CREATED:20260420T074346Z
DESCRIPTION:Der Sonntag bildet den Abschluss der dreitägigen Geburtstagsf
 eier des Robert Johnson in Offenbach. Seit 27 Jahren steht der Club für e
 ine kompromisslose musikalische Linie und eine Atmosphäre\, die DJs und P
 ublikum auf Augenhöhe zusammenbringt. Das finale Lineup rundet das Jubil
 äumswochenende ab.
GEO:50.111689;8.738979
LAST-MODIFIED:20260420T104409Z
LOCATION:Robert Johnson\, Nordring 131\, 63067\, Offenbach am Main
STATUS:CONFIRMED
URL:https://kulvio.de/event/3194
END:VEVENT
END:VCALENDAR
