BEGIN:VCALENDAR
VERSION:2.0
PRODID:-//Kulvio Event Calendar//kulvio.de//
CALSCALE:GREGORIAN
METHOD:PUBLISH
BEGIN:VEVENT
SUMMARY:La Terrrazza: Fafi Abdel Nour\, Octo Octa und Oliver Hafenbauer
DTSTART:20260705T130000Z
DTEND:20260705T140000Z
DTSTAMP:20260421T042946Z
UID:kulvio-event-3195@kulvio.de
CATEGORIES:Club,Open-Air
CREATED:20260420T074346Z
DESCRIPTION:Die Open-Air-Reihe La Terrrazza lädt zum Sommerauftakt auf di
 e Terrasse des Robert Johnson in Offenbach. Mit Fafi Abdel Nour\, Octo Oct
 a und Oliver Hafenbauer stehen drei Acts auf dem Programm\, die für einen
  vielseitigen Nachmittag sorgen. Octo Octa ist international bekannt für 
 ihren warmen\, euphorischen House-Sound. Start ist bereits um 15 Uhr.
GEO:50.111689;8.738979
LAST-MODIFIED:20260420T104409Z
LOCATION:Robert Johnson\, Nordring 131\, 63067\, Offenbach am Main
STATUS:CONFIRMED
URL:https://kulvio.de/event/3195
END:VEVENT
END:VCALENDAR
