BEGIN:VCALENDAR
VERSION:2.0
PRODID:-//Kulvio Event Calendar//kulvio.de//
CALSCALE:GREGORIAN
METHOD:PUBLISH
BEGIN:VEVENT
SUMMARY:EMOM – Electronic Music Open Mic in der Backstreet Bar
DTSTART:20260425T170000Z
DTEND:20260425T180000Z
DTSTAMP:20260421T041932Z
UID:kulvio-event-3196@kulvio.de
CATEGORIES:Konzert,Open Mic
CREATED:20260420T074412Z
DESCRIPTION:Die Veranstaltungsreihe EMOM (Electronic Music Open Mic) gasti
 ert in der Backstreet Bar in Frankfurt-Ginnheim. Ab 19 Uhr spielen neun Mu
 sikerinnen und Musiker live elektronische Musik in der barrierefreien Retr
 o-Bar an der Ginnheimer Landstraße. EMOM ist eine monatliche Veranstaltun
 gsreihe und Radiosendung aus Frankfurt\, die elektronische Live-Musik in w
 echselnden Locations präsentiert. Die Backstreet Bar bietet als Frankfurt
 s erste barrierefreie 90er-Retro-Bar mit Arcadeautomaten und Flippern ein 
 besonderes Ambiente für den Abend.
GEO:50.141394;8.648078
LAST-MODIFIED:20260420T104409Z
LOCATION:Backstreet Bar\, Ginnheimer Landstraße 172\, 60431\, Frankfurt a
 m Main
STATUS:CONFIRMED
URL:https://kulvio.de/event/3196
END:VEVENT
END:VCALENDAR
