BEGIN:VCALENDAR
VERSION:2.0
PRODID:-//Kulvio Event Calendar//kulvio.de//
CALSCALE:GREGORIAN
METHOD:PUBLISH
BEGIN:VEVENT
SUMMARY:STADTplus: Die Stadt + Das Zeichnen – Urban Sketching mit Sibyll
 e Lienhard
DTSTART:20260506T170000Z
DTEND:20260506T180000Z
DTSTAMP:20260421T042945Z
UID:kulvio-event-3197@kulvio.de
CATEGORIES:Vortrag
CREATED:20260420T074437Z
DESCRIPTION:Im Rahmen der Reihe STADTplus lädt das Deutsche Architekturmu
 seum am Schaumainkai zum Vortrag Die Stadt + Das Zeichnen ein. Die Archite
 ktin und Urban Sketcherin Sibylle Lienhard spricht über das Zeichnen im s
 tädtischen Raum als Methode der Wahrnehmung und Dokumentation. Die Reihe 
 STADTplus präsentiert einmal im Monat mittwochs um 19 Uhr einen Kurzvortr
 ag mit anschließender Führung und Diskussion. Das DAM am Museumsufer ist
  eines der wenigen Museen weltweit\, das sich ausschließlich der Architek
 tur widmet.
GEO:50.10487;8.677379
LAST-MODIFIED:20260420T104409Z
LOCATION:Deutsches Architekturmuseum\, Schaumainkai 43\, 60596\, Frankfurt
  am Main
STATUS:CONFIRMED
URL:https://kulvio.de/event/3197
END:VEVENT
END:VCALENDAR
