BEGIN:VCALENDAR
VERSION:2.0
PRODID:-//Kulvio Event Calendar//kulvio.de//
CALSCALE:GREGORIAN
METHOD:PUBLISH
BEGIN:VEVENT
SUMMARY:STADTplus: Die Stadt + Die Fußwege – mit Gladys Vasquez Fauggie
 r
DTSTART:20260610T170000Z
DTEND:20260610T180000Z
DTSTAMP:20260421T041935Z
UID:kulvio-event-3198@kulvio.de
CATEGORIES:Vortrag
CREATED:20260420T074437Z
DESCRIPTION:Das Deutsche Architekturmuseum setzt seine Reihe STADTplus for
 t mit dem Vortrag Die Stadt + Die Fußwege. Gladys Vasquez Fauggier\, die 
 Fußverkehrsbeauftragte der Stadt Frankfurt am Main\, spricht über Fußwe
 ge als Teil der städtischen Infrastruktur und Mobilität. Wie gewohnt fol
 gt auf den Kurzvortrag eine 20-minütige Führung mit Diskussion. Die STAD
 Tplus-Veranstaltungen finden mittwochs um 19 Uhr im DAM am Schaumainkai st
 att.
GEO:50.10487;8.677379
LAST-MODIFIED:20260420T104409Z
LOCATION:Deutsches Architekturmuseum\, Schaumainkai 43\, 60596\, Frankfurt
  am Main
STATUS:CONFIRMED
URL:https://kulvio.de/event/3198
END:VEVENT
END:VCALENDAR
