BEGIN:VCALENDAR
VERSION:2.0
PRODID:-//Kulvio Event Calendar//kulvio.de//
CALSCALE:GREGORIAN
METHOD:PUBLISH
BEGIN:VEVENT
SUMMARY:Forward Festival Frankfurt 2026 – Tag 1
DTSTART:20260611T110000Z
DTEND:20260611T200000Z
DTSTAMP:20260421T042008Z
UID:kulvio-event-3199@kulvio.de
CATEGORIES:Festival
CREATED:20260420T074526Z
DESCRIPTION:Das Forward Festival kommt erstmals nach Frankfurt und findet 
 im Massif E an der Zeil statt. Die Kreativkonferenz bringt über 25 intern
 ationale Sprecherinnen und Sprecher aus Design\, Werbung\, Typografie und 
 digitaler Kunst zusammen. Zu den Referenten gehören unter anderem Mike Me
 iré\, Erik Kessels und Julia Hoffmann von OpenAI. Das zweitägige Festiva
 l richtet sich an Designerinnen\, Kreative und Branchenprofis und ist Teil
  des offiziellen Programms der World Design Capital 2026 Frankfurt. Das Ma
 ssif E im ehemaligen E-Kinos-Gebäude an der Hauptwache bietet mehrere Bü
 hnen und Räume.
GEO:50.115369;8.693728
LAST-MODIFIED:20260420T104409Z
LOCATION:MASSIF E\, Zeil 125\, 60313\, Frankfurt am Main
STATUS:CONFIRMED
URL:https://kulvio.de/event/3199
END:VEVENT
END:VCALENDAR
