BEGIN:VCALENDAR
VERSION:2.0
PRODID:-//Kulvio Event Calendar//kulvio.de//
CALSCALE:GREGORIAN
METHOD:PUBLISH
BEGIN:VEVENT
SUMMARY:Forward Festival Frankfurt 2026 – Tag 2
DTSTART:20260612T080000Z
DTEND:20260612T203000Z
DTSTAMP:20260421T042309Z
UID:kulvio-event-3200@kulvio.de
CATEGORIES:Festival
CREATED:20260420T074526Z
DESCRIPTION:Am zweiten Tag des Forward Festival in Frankfurt stehen weiter
 e Vorträge\, Workshops und interaktive Erlebnisse auf dem Programm. Die K
 reativkonferenz im Massif E an der Zeil versammelt über 1.500 Kreative au
 s verschiedenen Branchen. Das Forward Festival findet seit 2015 in verschi
 edenen europäischen Städten statt und gastiert 2026 erstmals in Frankfur
 t im Rahmen der World Design Capital. Das Massif E befindet sich im umgeba
 uten E-Kinos-Gebäude direkt an der Hauptwache und bietet mehrere Veransta
 ltungsebenen.
GEO:50.115369;8.693728
LAST-MODIFIED:20260420T104409Z
LOCATION:MASSIF E\, Zeil 125\, 60313\, Frankfurt am Main
STATUS:CONFIRMED
URL:https://kulvio.de/event/3200
END:VEVENT
END:VCALENDAR
