BEGIN:VCALENDAR
VERSION:2.0
PRODID:-//Kulvio Event Calendar//kulvio.de//
CALSCALE:GREGORIAN
METHOD:PUBLISH
BEGIN:VEVENT
SUMMARY:Frankfurt Coffee Festival 2026 – Freitag
DTSTART:20260918T080000Z
DTEND:20260918T160000Z
DTSTAMP:20260421T042011Z
UID:kulvio-event-3201@kulvio.de
CATEGORIES:Food-Festival,Messe
CREATED:20260420T074552Z
DESCRIPTION:Das Frankfurt Coffee Festival startet am Freitag in der Klassi
 kstadt in Frankfurt-Fechenheim. Die größte Specialty-Coffee-Messe der Rh
 ein-Main-Region versammelt über 90 Aussteller\, die ihre Röstungen\, Br
 ühmethoden und Produkte rund um Kaffee präsentieren. Neben den Ständen 
 bietet das Festival Workshops\, Verkostungen und Barista-Wettbewerbe. Die 
 Klassikstadt mit ihrer industriellen Architektur bildet eine passende Kuli
 sse für das dreitägige Event.
GEO:50.13193;8.755128
LAST-MODIFIED:20260420T104409Z
LOCATION:Klassikstadt\, Orber Straße 4a\, 60386\, Frankfurt am Main
STATUS:CONFIRMED
URL:https://kulvio.de/event/3201
END:VEVENT
END:VCALENDAR
