BEGIN:VCALENDAR
VERSION:2.0
PRODID:-//Kulvio Event Calendar//kulvio.de//
CALSCALE:GREGORIAN
METHOD:PUBLISH
BEGIN:VEVENT
SUMMARY:Frankfurt Coffee Festival 2026 – Samstag
DTSTART:20260919T080000Z
DTEND:20260919T160000Z
DTSTAMP:20260421T042121Z
UID:kulvio-event-3202@kulvio.de
CATEGORIES:Food-Festival,Messe
CREATED:20260420T074552Z
DESCRIPTION:Am Samstag geht das Frankfurt Coffee Festival in der Klassikst
 adt in die zweite Runde. Über 90 Aussteller aus der Specialty-Coffee-Szen
 e präsentieren ihre Produkte und laden zum Probieren ein. Neben dem Ausst
 ellungsbereich finden Workshops und Meisterschaften statt\, bei denen sich
  Baristas und Kaffeeliebhaber austauschen können. Die Klassikstadt in Fra
 nkfurt-Fechenheim bietet auf dem weitläufigen Gelände ausreichend Platz 
 für das Festival.
GEO:50.13193;8.755128
LAST-MODIFIED:20260420T104409Z
LOCATION:Klassikstadt\, Orber Straße 4a\, 60386\, Frankfurt am Main
STATUS:CONFIRMED
URL:https://kulvio.de/event/3202
END:VEVENT
END:VCALENDAR
